BEGIN:VCALENDAR
VERSION:2.0
PRODID:-//Alma Mater Society - ECPv6.15.20//NONSGML v1.0//EN
CALSCALE:GREGORIAN
METHOD:PUBLISH
X-ORIGINAL-URL:https://www.myams.org
X-WR-CALDESC:Events for Alma Mater Society
REFRESH-INTERVAL;VALUE=DURATION:PT1H
X-Robots-Tag:noindex
X-PUBLISHED-TTL:PT1H
BEGIN:VTIMEZONE
TZID:UTC
BEGIN:STANDARD
TZOFFSETFROM:+0000
TZOFFSETTO:+0000
TZNAME:UTC
DTSTART:20220101T000000
END:STANDARD
END:VTIMEZONE
BEGIN:VEVENT
DTSTART;TZID=UTC:20231126T150000
DTEND;TZID=UTC:20231126T180000
DTSTAMP:20260419T145611
CREATED:20231121T184555Z
LAST-MODIFIED:20231121T184555Z
UID:28886-1701010800-1701021600@www.myams.org
SUMMARY:Movie Night
DESCRIPTION:Join us for a chill evening of watching movies and wearing Somali clothing!
URL:https://www.myams.org/event/movie-night/
LOCATION:Kingston Hall\, Reflection Room – Rm 213\, 103 Stuart Street\, Kingston\, ON\, K7L3N5\, Canada
CATEGORIES:Inside,On campus
END:VEVENT
BEGIN:VEVENT
DTSTART;TZID=UTC:20231126T160000
DTEND;TZID=UTC:20231126T200000
DTSTAMP:20260419T145611
CREATED:20231123T184601Z
LAST-MODIFIED:20231123T184601Z
UID:28908-1701014400-1701028800@www.myams.org
SUMMARY:Kingston Kerfuffle
DESCRIPTION:Kingston Kerfuffle is a weekly tournament series hosted by the Queen’s Fighting Game Club where students and community members can play\, compete\, and meet others in a welcoming and inclusive space full of similarly interested people.No experience is required\, and we offer controllers to borrow if you don’t have your own. There is no venue fee\, and registration is optional\, so feel free to swing by to check it out! We run games like Super Smash Bros. Ultimate\, Melee\, Tekken and more!More info\, including pricing\, location\, schedules and our discord server\, can be found in our linktree!
URL:https://www.myams.org/event/kingston-kerfuffle/
LOCATION:Jeffery Hall – Room 118\, 48 University Ave\, Kingston\, ON\, K7L 3N8\, Canada
CATEGORIES:Arts
END:VEVENT
BEGIN:VEVENT
DTSTART;TZID=UTC:20231126T180000
DTEND;TZID=UTC:20231126T210000
DTSTAMP:20260419T145611
CREATED:20231121T185004Z
LAST-MODIFIED:20231121T185004Z
UID:28888-1701021600-1701032400@www.myams.org
SUMMARY:Queen’s TCF Social Night
DESCRIPTION:Learn about TCF’s mission to raise funds for education for underprivileged children in Pakistan.
URL:https://www.myams.org/event/queens-tcf-social-night/
LOCATION:Mac Corry Room B201\, 68 University Avenue\, Kingston\, ON\, K7L 3N9\, Canada
CATEGORIES:Advocacy,Inside,On campus
ORGANIZER;CN="Queen's TCF":MAILTO:tcf@clubs.queensu.ca
END:VEVENT
END:VCALENDAR