BEGIN:VCALENDAR
VERSION:2.0
PRODID:-//Alma Mater Society - ECPv6.15.20//NONSGML v1.0//EN
CALSCALE:GREGORIAN
METHOD:PUBLISH
X-WR-CALNAME:Alma Mater Society
X-ORIGINAL-URL:https://www.myams.org
X-WR-CALDESC:Events for Alma Mater Society
REFRESH-INTERVAL;VALUE=DURATION:PT1H
X-Robots-Tag:noindex
X-PUBLISHED-TTL:PT1H
BEGIN:VTIMEZONE
TZID:UTC
BEGIN:STANDARD
TZOFFSETFROM:+0000
TZOFFSETTO:+0000
TZNAME:UTC
DTSTART:20220101T000000
END:STANDARD
END:VTIMEZONE
BEGIN:VEVENT
DTSTART;TZID=UTC:20231104T120000
DTEND;TZID=UTC:20231105T140000
DTSTAMP:20260419T154557
CREATED:20230801T151259Z
LAST-MODIFIED:20231017T180257Z
UID:28270-1699099200-1699192800@www.myams.org
SUMMARY:Con Ed Camp
DESCRIPTION:Every year\, CESA runs a summer camp-style getaway in the first semester for students of all years to bond\, meet new friends\, and take a break from campus life. It is an important tradition as it is the first all-year event in which incoming students can participate\, fostering a faculty-wide sense of community that sets the tone for the rest of the year.
URL:https://www.myams.org/event/con-ed-camp/
LOCATION:Camp Iawah\, 304 Lawah Road\, Godfrey\, Ontario\, K0H 1T0\, Canada
END:VEVENT
BEGIN:VEVENT
DTSTART;TZID=UTC:20231105T190000
DTEND;TZID=UTC:20231106T000000
DTSTAMP:20260419T154557
CREATED:20231030T142652Z
LAST-MODIFIED:20231030T142652Z
UID:28722-1699210800-1699228800@www.myams.org
SUMMARY:Oxjam
DESCRIPTION:Join us at the Mansion for a night full of food\, fun\, and live music by talented local performers! All ticket proceeds go to the Elizabeth Fry Foundation in Kingston to help support women in need.
URL:https://www.myams.org/event/oxjam-2/
LOCATION:The Mansion\, 506 Princess St\, Kingston\, ON\, K7L1C5\, Canada
CATEGORIES:Inside,Off campus
ORGANIZER;CN="Oxfam at Queen's":MAILTO:chair.oxfam@gmail.com
END:VEVENT
END:VCALENDAR