BEGIN:VCALENDAR
VERSION:2.0
PRODID:-//Alma Mater Society - ECPv6.15.20//NONSGML v1.0//EN
CALSCALE:GREGORIAN
METHOD:PUBLISH
X-ORIGINAL-URL:https://www.myams.org
X-WR-CALDESC:Events for Alma Mater Society
REFRESH-INTERVAL;VALUE=DURATION:PT1H
X-Robots-Tag:noindex
X-PUBLISHED-TTL:PT1H
BEGIN:VTIMEZONE
TZID:UTC
BEGIN:STANDARD
TZOFFSETFROM:+0000
TZOFFSETTO:+0000
TZNAME:UTC
DTSTART:20220101T000000
END:STANDARD
END:VTIMEZONE
BEGIN:VEVENT
DTSTART;VALUE=DATE:20230628
DTEND;VALUE=DATE:20230703
DTSTAMP:20260421T213321
CREATED:20221208T182119Z
LAST-MODIFIED:20221208T182119Z
UID:27415-1687910400-1688342399@www.myams.org
SUMMARY:Eid al-Adha (Islam)
DESCRIPTION:
URL:https://www.myams.org/event/eid-al-adha-islam/
CATEGORIES:Religious Days of Significance
END:VEVENT
END:VCALENDAR