BEGIN:VCALENDAR
VERSION:2.0
PRODID:-//Alma Mater Society - ECPv6.15.20//NONSGML v1.0//EN
CALSCALE:GREGORIAN
METHOD:PUBLISH
X-ORIGINAL-URL:https://www.myams.org
X-WR-CALDESC:Events for Alma Mater Society
REFRESH-INTERVAL;VALUE=DURATION:PT1H
X-Robots-Tag:noindex
X-PUBLISHED-TTL:PT1H
BEGIN:VTIMEZONE
TZID:UTC
BEGIN:STANDARD
TZOFFSETFROM:+0000
TZOFFSETTO:+0000
TZNAME:UTC
DTSTART:20220101T000000
END:STANDARD
END:VTIMEZONE
BEGIN:VEVENT
DTSTART;TZID=UTC:20230207T000000
DTEND;TZID=UTC:20230217T235900
DTSTAMP:20260421T174157
CREATED:20230207T183408Z
LAST-MODIFIED:20230207T183408Z
UID:27637-1675728000-1676678340@www.myams.org
SUMMARY:Distributive Presents: compute.for
DESCRIPTION:Distributive Compute Protocol is partnering with COMPSA for a two week coding contest. Participants will have the opportunity to engage with some of the technology and programs created by Distributive to create their own engaging projects with the aim of demonstrating the capabilities of this technology. Participants will have the chance to network and receive advice/feedback from professionals\, and the opportunity to work in the Distributive offices during business hours (9-5). On the final day\, participants will present their projects to their peers and a judging panel\, and the winners will receive cash prizes. Select projects may also be used to promote Distributive and featured on their website or presentations\, with appropriate credit attributed to the creator(s). Teams of 1-4 may enter.
URL:https://www.myams.org/event/distributive-presents-compute-for/
LOCATION:303 Bagot St.\, Suite 402
ORGANIZER;CN="Queen's Computing Students' Association (COMPSA)":MAILTO:sponsorships@compsa.queensu.ca
END:VEVENT
BEGIN:VEVENT
DTSTART;TZID=UTC:20230209T173000
DTEND;TZID=UTC:20230209T193000
DTSTAMP:20260421T174157
CREATED:20230131T165531Z
LAST-MODIFIED:20230131T165531Z
UID:27561-1675963800-1675971000@www.myams.org
SUMMARY:Letter to and from Our Bodies: Workshop Series pt 3
DESCRIPTION:Join us on Thursday\, February 9 for Part 3 of the in-person workshop series facilitated by Jungle Flower from Reclaim Your Voice! Doors open & FREE dinner is served at 5:30PM. The facilitation is from 6-7:30PM. In the Letters to and from our Bodies workshop\, participants are invited to get in touch with their bodies in a nurturing way. Writing prompts will be provided to help participants tap into what they wish to communicate to their bodies\, and to imagine what their bodies may wish to communicate back to them. Register today by emailing SVPREducation@queensu.ca
URL:https://www.myams.org/event/letter-to-and-from-our-bodies-workshop-series-pt-3/
LOCATION:MacCorry Hall Rm B176\, 68 University Ave\, Kingston\, ON\, K7L 3N9\, Canada
END:VEVENT
BEGIN:VEVENT
DTSTART;TZID=UTC:20230209T193000
DTEND;TZID=UTC:20230209T213000
DTSTAMP:20260421T174157
CREATED:20230131T173037Z
LAST-MODIFIED:20230131T173037Z
UID:27572-1675971000-1675978200@www.myams.org
SUMMARY:Wine and Paint Night
DESCRIPTION:Queen’s Helping Haiti invites Queen’s students to a night of painting at the Grizzly Grill\, a restaurant in downtown Kingston. This event possesses the objective of raising money for a medical clinic in Cité Soleil Haiti\, and spreading awareness both on and off-campus of not only the club but the Helping Haiti charitable organization. It will include an Art Instructor who will prepare a canvas\, in which attendees are able to follow a painting tutorial. All paint supplies will be provided by the club. It is a social gathering\, with music and fun conversations\, but all for charity!
URL:https://www.myams.org/event/wine-and-paint-night/
LOCATION:Grizzly Grill\, 395 Princess St\, Kingston\, ON\, K7L1B9\, Canada
END:VEVENT
END:VCALENDAR