BEGIN:VCALENDAR
VERSION:2.0
PRODID:-//Alma Mater Society - ECPv6.15.20//NONSGML v1.0//EN
CALSCALE:GREGORIAN
METHOD:PUBLISH
X-ORIGINAL-URL:https://www.myams.org
X-WR-CALDESC:Events for Alma Mater Society
REFRESH-INTERVAL;VALUE=DURATION:PT1H
X-Robots-Tag:noindex
X-PUBLISHED-TTL:PT1H
BEGIN:VTIMEZONE
TZID:UTC
BEGIN:STANDARD
TZOFFSETFROM:+0000
TZOFFSETTO:+0000
TZNAME:UTC
DTSTART:20220101T000000
END:STANDARD
END:VTIMEZONE
BEGIN:VEVENT
DTSTART;TZID=UTC:20230201T120000
DTEND;TZID=UTC:20230203T160000
DTSTAMP:20260420T142010
CREATED:20230126T205417Z
LAST-MODIFIED:20230126T205417Z
UID:27550-1675252800-1675440000@www.myams.org
SUMMARY:QPK Sticker Sale
DESCRIPTION:QPK has held sticker sales since its ratification 2 years ago\, and is our most successful event. This year we are hoping to hold it in person as we return to campus with our previous designs as well as some new additions\, all designed by our club members. All proceeds of the sale will go towards supporting Parkinson’s initiatives in the Kingston community.
URL:https://www.myams.org/event/qpk-sticker-sale-2/
LOCATION:Main Campus – Queen’s Centre\, 284 Earl Street\, Kingston\, ON\, K7L 3N6\, Canada
ORGANIZER;CN="Queen's for Parkinson's Kingston":MAILTO:qpk@clubs.queensu.ca
END:VEVENT
BEGIN:VEVENT
DTSTART;TZID=UTC:20230202T090000
DTEND;TZID=UTC:20230206T160000
DTSTAMP:20260420T142010
CREATED:20230126T205601Z
LAST-MODIFIED:20230126T205601Z
UID:27552-1675328400-1675699200@www.myams.org
SUMMARY:QFSF Clothing Drive
DESCRIPTION:Second running of our clothing drive in preparation for our Blind-Date with a Fit event the following week. We will have a table set up with a clothing rack available for swapping in return for donations as well.
URL:https://www.myams.org/event/qfsf-clothing-drive/
LOCATION:Queen’s Athletics & Recreation Centre (ARC)\, 284 Earl St\, Kingston\, ON\, K7L3N6\, Canada
END:VEVENT
BEGIN:VEVENT
DTSTART;TZID=UTC:20230202T153000
DTEND;TZID=UTC:20230202T190000
DTSTAMP:20260420T142010
CREATED:20230131T173734Z
LAST-MODIFIED:20230131T173734Z
UID:27577-1675351800-1675364400@www.myams.org
SUMMARY:Crops with Profs
DESCRIPTION:The event is a way for Biology students to meet faculty in a low stress environment and get to know our professors and the opportunities they offer. This event runs almost yearly\, with this being our first in person Crops with Profs in two years.
URL:https://www.myams.org/event/crops-with-profs/
LOCATION:The Grad Club\, 162 Barrie St\, Kingston\, ON\, K7L 3K1\, Canada
ORGANIZER;CN="Biology Department Student Council":MAILTO:biol.president@asus.queensu.ca
END:VEVENT
BEGIN:VEVENT
DTSTART;TZID=UTC:20230202T190000
DTEND;TZID=UTC:20230202T213000
DTSTAMP:20260420T142010
CREATED:20230131T171057Z
LAST-MODIFIED:20230131T171057Z
UID:27567-1675364400-1675373400@www.myams.org
SUMMARY:All Candidates Debate
DESCRIPTION:Save the date\, for the all-candidates debate! On Thursday\, February 2 at 7:00 pm\, the Undergraduate Trustee and AMS Executive candidates will be debating ahead of election days. The doors of Convocation Hall will open at 6:50 pm. Submit your questions ahead of time using the link the AMS Instagram bio. \nLive stream will be available on the AMS Instagram and Youtube.
URL:https://www.myams.org/event/all-candidates-debate/
LOCATION:Convocation Hall\, 10-14 Professors' Walk\, Kingston\, ON\, K7L 3L3\, Canada
ORGANIZER;CN="Alma Mater Society":MAILTO:communications@ams.queensu.ca
END:VEVENT
BEGIN:VEVENT
DTSTART;TZID=UTC:20230202T210000
DTEND;TZID=UTC:20230203T010000
DTSTAMP:20260420T142010
CREATED:20230131T173232Z
LAST-MODIFIED:20230131T173232Z
UID:27574-1675371600-1675386000@www.myams.org
SUMMARY:Guitars and Bars
DESCRIPTION:This event will involve live music performed in Clarke hall pub with a raffle also taking place. Tickets for the raffle can be given to attendees by purchasing a pitcher from the pub.
URL:https://www.myams.org/event/guitars-and-bars/
LOCATION:Clarke Hall Pub\, 30 5 Field Company Ln\, Kingston\, ON\, K7L 3N6\, Canada
END:VEVENT
END:VCALENDAR